BEGIN:VCALENDAR
VERSION:2.0
PRODID:-//Optimist Club of Menomonee Falls - ECPv6.15.20//NONSGML v1.0//EN
CALSCALE:GREGORIAN
METHOD:PUBLISH
X-ORIGINAL-URL:https://fallsoptimistclub.org
X-WR-CALDESC:Events for Optimist Club of Menomonee Falls
REFRESH-INTERVAL;VALUE=DURATION:PT1H
X-Robots-Tag:noindex
X-PUBLISHED-TTL:PT1H
BEGIN:VTIMEZONE
TZID:America/Chicago
BEGIN:DAYLIGHT
TZOFFSETFROM:-0600
TZOFFSETTO:-0500
TZNAME:CDT
DTSTART:20240310T080000
END:DAYLIGHT
BEGIN:STANDARD
TZOFFSETFROM:-0500
TZOFFSETTO:-0600
TZNAME:CST
DTSTART:20241103T070000
END:STANDARD
BEGIN:DAYLIGHT
TZOFFSETFROM:-0600
TZOFFSETTO:-0500
TZNAME:CDT
DTSTART:20250309T080000
END:DAYLIGHT
BEGIN:STANDARD
TZOFFSETFROM:-0500
TZOFFSETTO:-0600
TZNAME:CST
DTSTART:20251102T070000
END:STANDARD
BEGIN:DAYLIGHT
TZOFFSETFROM:-0600
TZOFFSETTO:-0500
TZNAME:CDT
DTSTART:20260308T080000
END:DAYLIGHT
BEGIN:STANDARD
TZOFFSETFROM:-0500
TZOFFSETTO:-0600
TZNAME:CST
DTSTART:20261101T070000
END:STANDARD
BEGIN:DAYLIGHT
TZOFFSETFROM:-0600
TZOFFSETTO:-0500
TZNAME:CDT
DTSTART:20270314T080000
END:DAYLIGHT
BEGIN:STANDARD
TZOFFSETFROM:-0500
TZOFFSETTO:-0600
TZNAME:CST
DTSTART:20271107T070000
END:STANDARD
END:VTIMEZONE
BEGIN:VEVENT
DTSTART;TZID=America/Chicago:20250405T130000
DTEND;TZID=America/Chicago:20250405T160000
DTSTAMP:20260425T083737
CREATED:20240922T162700Z
LAST-MODIFIED:20240922T163040Z
UID:5007-1743858000-1743868800@fallsoptimistclub.org
SUMMARY:Meat Raffle at Third Space Brewing on April 5th
DESCRIPTION:Raffles\, meat\, fun\, friends and more!  All while supporting a great cause. \nJoin the Optimist Club and one of the Falls newest attractions–Third Space Brewing’s Innovation Brewhouse–as we raise funds for kids’ organizations\, scholarships\, and other activities in the Greater Menomonee Falls area! \nSee you at Third Space!
URL:https://fallsoptimistclub.org/event/meat-raffle-at-third-space-brewing-on-april-5th/
LOCATION:Third Space Brewing\, N71W13040 Appleton Avenue\, Menomonee Falls\, WI\, 53051\, United States
CATEGORIES:Our Fundraisers
ATTACH;FMTTYPE=image/png:https://fallsoptimistclub.org/wp-content/uploads/2024/09/Third-Space-Innovation-Brewhouse.png
ORGANIZER;CN="Linda Zylka":MAILTO:cillaalso@aol.com
END:VEVENT
BEGIN:VEVENT
DTSTART;TZID=America/Chicago:20250525T180000
DTEND;TZID=America/Chicago:20250906T210000
DTSTAMP:20260425T083737
CREATED:20250215T163743Z
LAST-MODIFIED:20250216T192517Z
UID:5067-1748196000-1757192400@fallsoptimistclub.org
SUMMARY:2025 Optimist Popcorn Wagon
DESCRIPTION:Enjoy a fresh bag of popcorn while enjoying beautiful Village Park in Downtown Menomonee Falls!  And…support the Optimists as we “pop for kids!” \nOpen every night from 6pm – 9pm from Memorial Day through the week after Labor Day.
URL:https://fallsoptimistclub.org/event/2025-optimist-popcorn-wagon/
LOCATION:Village Park\, N87W16749 Garfield Avenue\, Menomonee Falls\, WI\, 53051\, United States
CATEGORIES:Our Fundraisers
ATTACH;FMTTYPE=image/png:https://fallsoptimistclub.org/wp-content/uploads/2025/02/Screenshot-2024-01-02-114526.png
ORGANIZER;CN="Larry Podolske":MAILTO:podolske@yahoo.com
END:VEVENT
BEGIN:VEVENT
DTSTART;TZID=America/Chicago:20250806T093000
DTEND;TZID=America/Chicago:20250806T170000
DTSTAMP:20260425T083737
CREATED:20250215T163109Z
LAST-MODIFIED:20250625T150306Z
UID:5065-1754472600-1754499600@fallsoptimistclub.org
SUMMARY:2025 Optimist Scholarship Golf Outing
DESCRIPTION:You’re invited to participate in the 35th Annual Menomonee Falls “Optimist Scholarship Golf Outing” at Ironwood Golf Course on Wednesday\, August 6\, 2025. \nFour-person scramble format. First place team prizes for Women\, Men\, Senior Flights & Additional Prizes\, Special PUTTING Contest\, Individual HOLE PRIZES\, HOLE EVENTS\, & More! \nRegistration starts at 9:30 AM\, shotgun start at 11:00 AM \nLunch included in fees. Begins at 9:30 AM \n $160 per person includes: 18 holes of golf\, free range balls\, 3 free mulligans\, free entrance in putting contest\, cart\, range balls\, entry into putting contest\, beverage\, lunch\, and heavy hors d’oeuvres. \nSocial hour from 3:30 PM to 4:30 PM. Hors d’oeuvres & awards to follow the conclusion of golf. Raffle prizes to be posted after golf. \nSign up as a team or an individual! Register by July 30\, 2025: \nRegister today! \nDon’t want to register online? Download and print our flier
URL:https://fallsoptimistclub.org/event/2025-optimist-scholarship-golf-outing/
LOCATION:Ironwood Golf Course\, W270N6166 Moraine Dr.\, Sussex\, 53089\, United States
CATEGORIES:Our Fundraisers,Public Event
ATTACH;FMTTYPE=image/jpeg:https://fallsoptimistclub.org/wp-content/uploads/2023/06/2023-05-17-ScholarshipGolf_0207-600x420-1.jpg
ORGANIZER;CN="Todd Paulus":MAILTO:tpaulus@wi.rr.com
END:VEVENT
BEGIN:VEVENT
DTSTART;TZID=America/Chicago:20260103T130000
DTEND;TZID=America/Chicago:20260103T160000
DTSTAMP:20260425T083737
CREATED:20251222T165052Z
LAST-MODIFIED:20251222T165052Z
UID:5152-1767445200-1767456000@fallsoptimistclub.org
SUMMARY:Meat Raffle at DJ's Goalpost on January 3\, 2026
DESCRIPTION:Join us for a fun and exciting opportunity to win high-quality cuts of meat\, perfect for grilling or family dinners.  Purchase raffle tickets for your chance to win with multiple drawings during the event. 50/50 raffle and other fun events.  Support a great cause\, enjoy a great venue and have fun! \n 
URL:https://fallsoptimistclub.org/event/meat-raffle-at-djs-goalpost-on-january-3-2026/
LOCATION:DJ’s Goalpost Sports Pub & Eatery\, N81W15094 Appleton Ave.\, Menomonee Falls\, 53051\, United States
CATEGORIES:Our Fundraisers
ATTACH;FMTTYPE=image/webp:https://fallsoptimistclub.org/wp-content/uploads/2025/12/DJs-Goalpost.webp
ORGANIZER;CN="Linda Zylka":MAILTO:cillaalso@aol.com
END:VEVENT
BEGIN:VEVENT
DTSTART;TZID=America/Chicago:20260207T130000
DTEND;TZID=America/Chicago:20260207T160000
DTSTAMP:20260425T083737
CREATED:20251222T165543Z
LAST-MODIFIED:20251222T165543Z
UID:5154-1770469200-1770480000@fallsoptimistclub.org
SUMMARY:Meat Raffle at The Turn @ Wanaki Golf Course on February 7\, 2026
DESCRIPTION:Join us for a fun and exciting opportunity to win high-quality cuts of meat\, perfect for grilling or family dinners.  Purchase raffle tickets for your chance to win with multiple drawings during the event. 50/50 raffle and other fun events.  Support a great cause\, enjoy a great venue and have fun! \n 
URL:https://fallsoptimistclub.org/event/meat-raffle-at-the-turn-wanaki-golf-course-on-february-7-2026/
LOCATION:Wanaki Golf Course\, N50W20830 Lisbon Road\, Menomonee Falls\, WI\, United States
CATEGORIES:Our Fundraisers
ATTACH;FMTTYPE=image/png:https://fallsoptimistclub.org/wp-content/uploads/2024/09/Wanaki-Golf-Course-Bar.png
ORGANIZER;CN="Linda Zylka":MAILTO:cillaalso@aol.com
END:VEVENT
BEGIN:VEVENT
DTSTART;TZID=America/Chicago:20260307T130000
DTEND;TZID=America/Chicago:20260307T160000
DTSTAMP:20260425T083737
CREATED:20251222T171427Z
LAST-MODIFIED:20251222T171522Z
UID:5155-1772888400-1772899200@fallsoptimistclub.org
SUMMARY:Meat Raffle at Hop Yard Ale Works on March 7\, 2026
DESCRIPTION:Join us for a fun and exciting opportunity to win high-quality cuts of meat\, perfect for grilling or family dinners.  Purchase raffle tickets for your chance to win with multiple drawings during the event. 50/50 raffle and other fun events.  Support a great cause\, enjoy a great venue and have fun! \n 
URL:https://fallsoptimistclub.org/event/meat-raffle-at-hop-yard-ale-works-on-march-7-2026/
LOCATION:Hop Yard Ale Works\, N88W16521 Main Street\, Menomonee Falls\, WI\, 53051\, United States
CATEGORIES:Our Fundraisers
ATTACH;FMTTYPE=image/png:https://fallsoptimistclub.org/wp-content/uploads/2025/12/Hop-Yard-and-Ale-Works.png
ORGANIZER;CN="Linda Zylka":MAILTO:cillaalso@aol.com
END:VEVENT
BEGIN:VEVENT
DTSTART;TZID=America/Chicago:20260404T130000
DTEND;TZID=America/Chicago:20260404T160000
DTSTAMP:20260425T083737
CREATED:20251222T172702Z
LAST-MODIFIED:20251222T172702Z
UID:5161-1775307600-1775318400@fallsoptimistclub.org
SUMMARY:Meat Raffle at Players Pub on April 4\, 2026
DESCRIPTION:Join us for a fun and exciting opportunity to win high-quality cuts of meat\, perfect for grilling or family dinners.  Purchase raffle tickets for your chance to win with multiple drawings during the event. 50/50 raffle and other fun events.  Support a great cause\, enjoy a great venue and have fun! \n 
URL:https://fallsoptimistclub.org/event/meat-raffle-at-players-pub-on-april-4-2026/
LOCATION:Player’s Pub\, N86W16396 Appleton Ave.\, Menomonee Falls\, 53051\, United States
CATEGORIES:Our Fundraisers
ATTACH;FMTTYPE=image/png:https://fallsoptimistclub.org/wp-content/uploads/2025/12/Players-Pub.png
ORGANIZER;CN="Linda Zylka":MAILTO:cillaalso@aol.com
END:VEVENT
BEGIN:VEVENT
DTSTART;TZID=America/Chicago:20260423T183000
DTEND;TZID=America/Chicago:20260423T213000
DTSTAMP:20260425T083737
CREATED:20251222T184537Z
LAST-MODIFIED:20260227T150038Z
UID:5169-1776969000-1776979800@fallsoptimistclub.org
SUMMARY:2026 Casino Night
DESCRIPTION:Try your luck (or skill!) at the Optimist Club Casino Night on Thursday\, April 23.  Craps\, roulette\, blackjack and more.  Hors d’oeuvres catered by Davians. \nEnjoy a night out and help a great cause–all proceeds benefit the Optimist Club Foundation! \nDoors open at 6:00 pm\, gambling from 6:30 to 9:30.  Drawing for prizes at 9:30. \nTickets are $20 each and include hors d’oeuvres!  Contact Linda Zylka at cillaalso@aol.com for tickets.  There are only 100 tickets available and must be purchased in advance. \nWe hope to see you there!
URL:https://fallsoptimistclub.org/event/casino-night/
LOCATION:Davians\, N55W16300 Silver Spring Dr\, Menomonee Falls\, WI\, 53051\, United States
CATEGORIES:Our Fundraisers,Public Event
ATTACH;FMTTYPE=application/pdf:https://fallsoptimistclub.org/wp-content/uploads/2025/12/Casino-Night-Flyer.pdf
ORGANIZER;CN="Linda Zylka":MAILTO:cillaalso@aol.com
END:VEVENT
BEGIN:VEVENT
DTSTART;TZID=America/Chicago:20260520T093000
DTEND;TZID=America/Chicago:20260520T183000
DTSTAMP:20260425T083737
CREATED:20251222T174639Z
LAST-MODIFIED:20260324T151536Z
UID:5167-1779269400-1779301800@fallsoptimistclub.org
SUMMARY:2026 Optimist Club Scholarship Golf Outing
DESCRIPTION:You’re invited to participate in the 35th Annual Menomonee Falls “Optimist Scholarship Golf Outing” at Ironwood Golf Course on Wednesday\, May 20\, 2026. \nFour-person scramble format. First place team prizes for Women\, Men\, Senior Flights & Additional Prizes\, Special PUTTING Contest\, Individual HOLE PRIZES\, HOLE EVENTS\, & More! \nRegistration starts at 9:30 AM\, shotgun start at 11:00 AM \nLunch included in fees. Begins at 9:30 AM \n $160 per person includes: 18 holes of golf\, free range balls\, 3 free mulligans\, cart\, range balls\, beverage\, lunch\, and heavy hors d’oeuvres. \nSocial hour from 3:30 PM to 4:30 PM. Hors d’oeuvres & awards to follow the conclusion of golf. Raffle prizes to be posted after golf. \nSign up as a team or an individual! Register by May 13\, 2026. \n\n\n                \n                        \n                            Golf Outing Registration 2026\n							"*" indicates required fields \n                        \n                        Registration Type*\n			\n					\n					Individual\n			\n			\n					\n					Team\n			Player 1*\n                            \n                            \n                                                    \n                                                    First\n                                                \n                            \n                            \n                                                    \n                                                    Last\n                                                \n                            \n                        Player 2*\n                            \n                            \n                                                    \n                                                    First\n                                                \n                            \n                            \n                                                    \n                                                    Last\n                                                \n                            \n                        Player 3*\n                            \n                            \n                                                    \n                                                    First\n                                                \n                            \n                            \n                                                    \n                                                    Last\n                                                \n                            \n                        Player 4*\n                            \n                            \n                                                    \n                                                    First\n                                                \n                            \n                            \n                                                    \n                                                    Last\n                                                \n                            \n                        Combined ages of all golfersIf your total is 265 or above\, your team will be flight 2Contact Email*\n                            \n                        Contact Phone*
URL:https://fallsoptimistclub.org/event/2026-optimist-club-scholarship-golf-outing/
LOCATION:Ironwood Golf Course\, W270N6166 Moraine Dr.\, Sussex\, 53089\, United States
CATEGORIES:Our Fundraisers,Public Event
ATTACH;FMTTYPE=image/png:https://fallsoptimistclub.org/wp-content/uploads/2025/12/Golf.png
ORGANIZER;CN="Todd Paulus":MAILTO:tpaulus@wi.rr.com
END:VEVENT
BEGIN:VEVENT
DTSTART;TZID=America/Chicago:20260524T180000
DTEND;TZID=America/Chicago:20260905T210000
DTSTAMP:20260425T083737
CREATED:20251224T203441Z
LAST-MODIFIED:20251224T203441Z
UID:5177-1779645600-1788642000@fallsoptimistclub.org
SUMMARY:2026 Optimist Club Popcorn Wagon
DESCRIPTION:Enjoy a fresh bag of popcorn while enjoying beautiful Village Park in Downtown Menomonee Falls!  And…support the Optimists as we “pop for kids!” \nOpen every night from 6pm – 9pm from Memorial Day through the week after Labor Day.
URL:https://fallsoptimistclub.org/event/2026-optimist-club-popcorn-wagon/
LOCATION:Village Park\, N87W16749 Garfield Avenue\, Menomonee Falls\, WI\, 53051\, United States
CATEGORIES:Our Fundraisers,Our Service,Public Event
ATTACH;FMTTYPE=image/png:https://fallsoptimistclub.org/wp-content/uploads/2025/02/Screenshot-2024-01-02-114526.png
ORGANIZER;CN="Larry Podolske":MAILTO:podolske@yahoo.com
END:VEVENT
END:VCALENDAR