BEGIN:VCALENDAR
VERSION:2.0
PRODID:-//Optimist Club of Menomonee Falls - ECPv6.15.20//NONSGML v1.0//EN
CALSCALE:GREGORIAN
METHOD:PUBLISH
X-ORIGINAL-URL:https://fallsoptimistclub.org
X-WR-CALDESC:Events for Optimist Club of Menomonee Falls
REFRESH-INTERVAL;VALUE=DURATION:PT1H
X-Robots-Tag:noindex
X-PUBLISHED-TTL:PT1H
BEGIN:VTIMEZONE
TZID:America/Chicago
BEGIN:DAYLIGHT
TZOFFSETFROM:-0600
TZOFFSETTO:-0500
TZNAME:CDT
DTSTART:20230312T080000
END:DAYLIGHT
BEGIN:STANDARD
TZOFFSETFROM:-0500
TZOFFSETTO:-0600
TZNAME:CST
DTSTART:20231105T070000
END:STANDARD
BEGIN:DAYLIGHT
TZOFFSETFROM:-0600
TZOFFSETTO:-0500
TZNAME:CDT
DTSTART:20240310T080000
END:DAYLIGHT
BEGIN:STANDARD
TZOFFSETFROM:-0500
TZOFFSETTO:-0600
TZNAME:CST
DTSTART:20241103T070000
END:STANDARD
BEGIN:DAYLIGHT
TZOFFSETFROM:-0600
TZOFFSETTO:-0500
TZNAME:CDT
DTSTART:20250309T080000
END:DAYLIGHT
BEGIN:STANDARD
TZOFFSETFROM:-0500
TZOFFSETTO:-0600
TZNAME:CST
DTSTART:20251102T070000
END:STANDARD
END:VTIMEZONE
BEGIN:VEVENT
DTSTART;TZID=America/Chicago:20240406T130000
DTEND;TZID=America/Chicago:20240406T160000
DTSTAMP:20260425T064414
CREATED:20240207T210818Z
LAST-MODIFIED:20240207T210818Z
UID:4750-1712408400-1712419200@fallsoptimistclub.org
SUMMARY:April Meat Raffle at Player's Pub
DESCRIPTION:Raffles\, meat\, fun\, friends and more!  All while supporting a great cause. \nJoin the Optimist Club and our local businesses as we raise funds for kids’ clubs\, scholarships\, and other activities in the Greater Menomonee Falls area! \nSee you at Player’s Pub!
URL:https://fallsoptimistclub.org/event/april-meat-raffle-at-players-pub/
LOCATION:Player’s Pub\, N86W16396 Appleton Ave.\, Menomonee Falls\, 53051\, United States
CATEGORIES:Our Fundraisers
ORGANIZER;CN="Marcia Hebbring":MAILTO:mrc
END:VEVENT
END:VCALENDAR