BEGIN:VCALENDAR
VERSION:2.0
PRODID:-//Optimist Club of Menomonee Falls - ECPv6.15.20//NONSGML v1.0//EN
CALSCALE:GREGORIAN
METHOD:PUBLISH
X-ORIGINAL-URL:https://fallsoptimistclub.org
X-WR-CALDESC:Events for Optimist Club of Menomonee Falls
REFRESH-INTERVAL;VALUE=DURATION:PT1H
X-Robots-Tag:noindex
X-PUBLISHED-TTL:PT1H
BEGIN:VTIMEZONE
TZID:America/Chicago
BEGIN:DAYLIGHT
TZOFFSETFROM:-0600
TZOFFSETTO:-0500
TZNAME:CDT
DTSTART:20220313T080000
END:DAYLIGHT
BEGIN:STANDARD
TZOFFSETFROM:-0500
TZOFFSETTO:-0600
TZNAME:CST
DTSTART:20221106T070000
END:STANDARD
BEGIN:DAYLIGHT
TZOFFSETFROM:-0600
TZOFFSETTO:-0500
TZNAME:CDT
DTSTART:20230312T080000
END:DAYLIGHT
BEGIN:STANDARD
TZOFFSETFROM:-0500
TZOFFSETTO:-0600
TZNAME:CST
DTSTART:20231105T070000
END:STANDARD
BEGIN:DAYLIGHT
TZOFFSETFROM:-0600
TZOFFSETTO:-0500
TZNAME:CDT
DTSTART:20240310T080000
END:DAYLIGHT
BEGIN:STANDARD
TZOFFSETFROM:-0500
TZOFFSETTO:-0600
TZNAME:CST
DTSTART:20241103T070000
END:STANDARD
END:VTIMEZONE
BEGIN:VEVENT
DTSTART;TZID=America/Chicago:20230312T113000
DTEND;TZID=America/Chicago:20230312T163000
DTSTAMP:20260424T132532
CREATED:20231213T204752Z
LAST-MODIFIED:20240210T162052Z
UID:4601-1678620600-1678638600@fallsoptimistclub.org
SUMMARY:Coo Olympics
DESCRIPTION:On March 12\, 2023\, our Optimist Club presented the “Coo Olympics”\, a new fund raiser for our club\, to our Menomonee Falls downtown area.  A well-received event by our six local downtown establishments and the 90 players with an average age of 50+ that participated in playing 11 games\, raffles\, food\, and having just a whole lot of fun with the volunteers\, friends\, and families surrounding them. Special thanks go out to The Hot House\, Sal’s Pub and Grille\, Players Pub\, Wisconsin on Tap\, Krueger’s Bowl\, and the American Legion for providing space to do the games in their establishments and gift certificates for all of our winners.  A special thank you to the American Legion for providing a place for the awards’ presentations\, 50/50 raffle and an in-house raffle\, along with great food provided to all.  A special shout out to our head chef\, Mr. Greg Mattson.  A daunting adventure\, months in the making\, a few flaws here and there but truly a great outcome.  A huge thank you to 25+ volunteers of which a third of them weren’t even club members.  We couldn’t have done it without them.  So\, at the end of the day\, a WIN WIN for the Optimist Club and our kids along with a great partnership with the American Legion\, and our Vets.  The Coo Olympics netted $2\,200.00+ and with so many requests for a return engagement\, we definitely are considering coming back next year.  Hope to see more of you participate in some way.  Happy 50 Years\, Optimist Club of Menomonee Falls!!!!!!
URL:https://fallsoptimistclub.org/event/coo-olympics/
LOCATION:American Legion Post #382\, N88W16652 Main St.\, Menomonee Falls\, 53051\, United States
CATEGORIES:Our Fundraisers,Public Event
ATTACH;FMTTYPE=image/jpeg:https://fallsoptimistclub.org/wp-content/uploads/2023/03/2023-03-coo-olympics-graphic-600x420-1.jpg
END:VEVENT
END:VCALENDAR