BEGIN:VCALENDAR
VERSION:2.0
PRODID:-//Optimist Club of Menomonee Falls - ECPv6.15.20//NONSGML v1.0//EN
CALSCALE:GREGORIAN
METHOD:PUBLISH
X-ORIGINAL-URL:https://fallsoptimistclub.org
X-WR-CALDESC:Events for Optimist Club of Menomonee Falls
REFRESH-INTERVAL;VALUE=DURATION:PT1H
X-Robots-Tag:noindex
X-PUBLISHED-TTL:PT1H
BEGIN:VTIMEZONE
TZID:America/Chicago
BEGIN:DAYLIGHT
TZOFFSETFROM:-0600
TZOFFSETTO:-0500
TZNAME:CDT
DTSTART:20220313T080000
END:DAYLIGHT
BEGIN:STANDARD
TZOFFSETFROM:-0500
TZOFFSETTO:-0600
TZNAME:CST
DTSTART:20221106T070000
END:STANDARD
BEGIN:DAYLIGHT
TZOFFSETFROM:-0600
TZOFFSETTO:-0500
TZNAME:CDT
DTSTART:20230312T080000
END:DAYLIGHT
BEGIN:STANDARD
TZOFFSETFROM:-0500
TZOFFSETTO:-0600
TZNAME:CST
DTSTART:20231105T070000
END:STANDARD
BEGIN:DAYLIGHT
TZOFFSETFROM:-0600
TZOFFSETTO:-0500
TZNAME:CDT
DTSTART:20240310T080000
END:DAYLIGHT
BEGIN:STANDARD
TZOFFSETFROM:-0500
TZOFFSETTO:-0600
TZNAME:CST
DTSTART:20241103T070000
END:STANDARD
END:VTIMEZONE
BEGIN:VEVENT
DTSTART;TZID=America/Chicago:20230204T190000
DTEND;TZID=America/Chicago:20230204T220000
DTSTAMP:20260424T113616
CREATED:20231213T204030Z
LAST-MODIFIED:20231215T224601Z
UID:4568-1675537200-1675548000@fallsoptimistclub.org
SUMMARY:Trivia Contest
DESCRIPTION:Menomonee Falls Optimist Club – Trivia Night \nFEBRUARY 4\, 2023 \nSt. Agnes School \n12800 Fairmont Ave.\, Butler\, WI \n  \nBYO Adult Drinks/Soda/Snacks \n  \nDoors Open – 6:00 PM \nContest – 7:00 Sharp \nTables of 10 people-$150.00 \nPer Person- $15.00 \nForm a team and pick a team name \nBe creative\, wear costumes and have table decorations \nRemember- This is not designed for “Trivia Buffs”.  It is only for fun! \nFor more info\, contact Sue Jeskewitz at 251-9595 or 414-659-3037 \nSend check by Jan. 28\, 2023 to Sue\, N80W17429 Robin Circle\, Menomonee Falls\, 53051 \n  \nphoto: 2017 Trivia Team Winners: Irish I Knew the Answer \nTrivia Contest Co-Chairs: Sue Jeskewitz\, Karen Nelson\, Todd Paulus
URL:https://fallsoptimistclub.org/event/trivia-contest/
LOCATION:St. Agnes School Cafeteria\, 12800 W. Fairmount Ave.\, Butler\, 53007\, United States
CATEGORIES:Our Fundraisers,Public Event
ATTACH;FMTTYPE=image/png:https://fallsoptimistclub.org/wp-content/uploads/2017/01/2017-01Jan28-Trivia-team-winners.png
END:VEVENT
END:VCALENDAR