BEGIN:VCALENDAR
VERSION:2.0
PRODID:-//Optimist Club of Menomonee Falls - ECPv6.15.20//NONSGML v1.0//EN
CALSCALE:GREGORIAN
METHOD:PUBLISH
X-WR-CALNAME:Optimist Club of Menomonee Falls
X-ORIGINAL-URL:https://fallsoptimistclub.org
X-WR-CALDESC:Events for Optimist Club of Menomonee Falls
REFRESH-INTERVAL;VALUE=DURATION:PT1H
X-Robots-Tag:noindex
X-PUBLISHED-TTL:PT1H
BEGIN:VTIMEZONE
TZID:America/Chicago
BEGIN:DAYLIGHT
TZOFFSETFROM:-0600
TZOFFSETTO:-0500
TZNAME:CDT
DTSTART:20240310T080000
END:DAYLIGHT
BEGIN:STANDARD
TZOFFSETFROM:-0500
TZOFFSETTO:-0600
TZNAME:CST
DTSTART:20241103T070000
END:STANDARD
BEGIN:DAYLIGHT
TZOFFSETFROM:-0600
TZOFFSETTO:-0500
TZNAME:CDT
DTSTART:20250309T080000
END:DAYLIGHT
BEGIN:STANDARD
TZOFFSETFROM:-0500
TZOFFSETTO:-0600
TZNAME:CST
DTSTART:20251102T070000
END:STANDARD
BEGIN:DAYLIGHT
TZOFFSETFROM:-0600
TZOFFSETTO:-0500
TZNAME:CDT
DTSTART:20260308T080000
END:DAYLIGHT
BEGIN:STANDARD
TZOFFSETFROM:-0500
TZOFFSETTO:-0600
TZNAME:CST
DTSTART:20261101T070000
END:STANDARD
END:VTIMEZONE
BEGIN:VEVENT
DTSTART;TZID=America/Chicago:20251203T173000
DTEND;TZID=America/Chicago:20251203T220000
DTSTAMP:20260424T075613
CREATED:20251114T165636Z
LAST-MODIFIED:20251120T213950Z
UID:5070-1764783000-1764799200@fallsoptimistclub.org
SUMMARY:2025 Optimist Member Christmas Party
DESCRIPTION:Are You Ready For The Most Wonderful Time Of The Year? \nChestnuts roasting on an open fire…and the Optimist Club Member Christmas Party! \nWe will be returning to North Hills Country Club on December 3rd and will offer a sit-down dinner and entertainment.  Cocktail hour starts at 5:30 p.m.  Dinner will be served at 6:30 p.m. \nThere are three choices for meals:  Chicken Marsala\, Pan-Seared Salmon\, or Vegetable Fricasee.  Cost is $40. \nSign-up sheets will be available during our regular morning meetings through November 26th.  Or you can mail your meal choice and payment to Carol Burg at W140N10870 Country Aire Drive\, Germantown\, WI 53022. \nBUY NOW
URL:https://fallsoptimistclub.org/event/2025-optimist-member-christmas-party/
LOCATION:North Hills Country Club\, N73W13430 Appleton Ave.\, Menomonee Falls\, 53051\, United States
CATEGORIES:Member Events
ATTACH;FMTTYPE=image/png:https://fallsoptimistclub.org/wp-content/uploads/2025/11/2025-Optimist-Christmas-Party.png
ORGANIZER;CN="Carol Burg":MAILTO:carol
END:VEVENT
END:VCALENDAR